Workbook

Sheet Policy_Input
A1: Field | B1: Value
A2: Brand | B2: myswpcalculator
A3: Sum Assured (₹) | B3: 500000
A4: Bonus Rate per 1000 per Year (₹) | B4: 52
A5: Policy Term (Years) | B5: 20
A6: Annual Premium (₹) | B6: 20000

Sheet Calculation
A1: Year | B1: Bonus Earned That Year | C1: Cumulative Bonus | D1: Estimated Maturity Value
A2: 1 | B2: =IF(A2<=Policy_Input!B5,(Policy_Input!B3/1000)*Policy_Input!B4,"") | C2: =B2 | D2: =IF(B2="","",Policy_Input!B3+C2)
A3: 2 | B3: =IF(A3<=Policy_Input!B5,(Policy_Input!B3/1000)*Policy_Input!B4,"") | C3: =IF(B3="","",C2+B3) | D3: =IF(B3="","",Policy_Input!B3+C3)
A4: 3 | B4: =IF(A4<=Policy_Input!B5,(Policy_Input!B3/1000)*Policy_Input!B4,"") | C4: =IF(B4="","",C3+B4) | D4: =IF(B4="","",Policy_Input!B3+C4)
A5: 4 | B5: =IF(A5<=Policy_Input!B5,(Policy_Input!B3/1000)*Policy_Input!B4,"") | C5: =IF(B5="","",C4+B5) | D5: =IF(B5="","",Policy_Input!B3+C5)
A6: 5 | B6: =IF(A6<=Policy_Input!B5,(Policy_Input!B3/1000)*Policy_Input!B4,"") | C6: =IF(B6="","",C5+B6) | D6: =IF(B6="","",Policy_Input!B3+C6)
A7: 6 | B7: =IF(A7<=Policy_Input!B5,(Policy_Input!B3/1000)*Policy_Input!B4,"") | C7: =IF(B7="","",C6+B7) | D7: =IF(B7="","",Policy_Input!B3+C7)
A8: 7 | B8: =IF(A8<=Policy_Input!B5,(Policy_Input!B3/1000)*Policy_Input!B4,"") | C8: =IF(B8="","",C7+B8) | D8: =IF(B8="","",Policy_Input!B3+C8)
A9: 8 | B9: =IF(A9<=Policy_Input!B5,(Policy_Input!B3/1000)*Policy_Input!B4,"") | C9: =IF(B9="","",C8+B9) | D9: =IF(B9="","",Policy_Input!B3+C9)
A10: 9 | B10: =IF(A10<=Policy_Input!B5,(Policy_Input!B3/1000)*Policy_Input!B4,"") | C10: =IF(B10="","",C9+B10) | D10: =IF(B10="","",Policy_Input!B3+C10)
A11: 10 | B11: =IF(A11<=Policy_Input!B5,(Policy_Input!B3/1000)*Policy_Input!B4,"") | C11: =IF(B11="","",C10+B11) | D11: =IF(B11="","",Policy_Input!B3+C11)
A12: 11 | B12: =IF(A12<=Policy_Input!B5,(Policy_Input!B3/1000)*Policy_Input!B4,"") | C12: =IF(B12="","",C11+B12) | D12: =IF(B12="","",Policy_Input!B3+C12)
A13: 12 | B13: =IF(A13<=Policy_Input!B5,(Policy_Input!B3/1000)*Policy_Input!B4,"") | C13: =IF(B13="","",C12+B13) | D13: =IF(B13="","",Policy_Input!B3+C13)
A14: 13 | B14: =IF(A14<=Policy_Input!B5,(Policy_Input!B3/1000)*Policy_Input!B4,"") | C14: =IF(B14="","",C13+B14) | D14: =IF(B14="","",Policy_Input!B3+C14)
A15: 14 | B15: =IF(A15<=Policy_Input!B5,(Policy_Input!B3/1000)*Policy_Input!B4,"") | C15: =IF(B15="","",C14+B15) | D15: =IF(B15="","",Policy_Input!B3+C15)
A16: 15 | B16: =IF(A16<=Policy_Input!B5,(Policy_Input!B3/1000)*Policy_Input!B4,"") | C16: =IF(B16="","",C15+B16) | D16: =IF(B16="","",Policy_Input!B3+C16)
A17: 16 | B17: =IF(A17<=Policy_Input!B5,(Policy_Input!B3/1000)*Policy_Input!B4,"") | C17: =IF(B17="","",C16+B17) | D17: =IF(B17="","",Policy_Input!B3+C17)
A18: 17 | B18: =IF(A18<=Policy_Input!B5,(Policy_Input!B3/1000)*Policy_Input!B4,"") | C18: =IF(B18="","",C17+B18) | D18: =IF(B18="","",Policy_Input!B3+C18)
A19: 18 | B19: =IF(A19<=Policy_Input!B5,(Policy_Input!B3/1000)*Policy_Input!B4,"") | C19: =IF(B19="","",C18+B19) | D19: =IF(B19="","",Policy_Input!B3+C19)
A20: 19 | B20: =IF(A20<=Policy_Input!B5,(Policy_Input!B3/1000)*Policy_Input!B4,"") | C20: =IF(B20="","",C19+B20) | D20: =IF(B20="","",Policy_Input!B3+C20)
A21: 20 | B21: =IF(A21<=Policy_Input!B5,(Policy_Input!B3/1000)*Policy_Input!B4,"") | C21: =IF(B21="","",C20+B21) | D21: =IF(B21="","",Policy_Input!B3+C21)
A22: 21 | B22: =IF(A22<=Policy_Input!B5,(Policy_Input!B3/1000)*Policy_Input!B4,"") | C22: =IF(B22="","",C21+B22) | D22: =IF(B22="","",Policy_Input!B3+C22)
A23: 22 | B23: =IF(A23<=Policy_Input!B5,(Policy_Input!B3/1000)*Policy_Input!B4,"") | C23: =IF(B23="","",C22+B23) | D23: =IF(B23="","",Policy_Input!B3+C23)
A24: 23 | B24: =IF(A24<=Policy_Input!B5,(Policy_Input!B3/1000)*Policy_Input!B4,"") | C24: =IF(B24="","",C23+B24) | D24: =IF(B24="","",Policy_Input!B3+C24)
A25: 24 | B25: =IF(A25<=Policy_Input!B5,(Policy_Input!B3/1000)*Policy_Input!B4,"") | C25: =IF(B25="","",C24+B25) | D25: =IF(B25="","",Policy_Input!B3+C25)
A26: 25 | B26: =IF(A26<=Policy_Input!B5,(Policy_Input!B3/1000)*Policy_Input!B4,"") | C26: =IF(B26="","",C25+B26) | D26: =IF(B26="","",Policy_Input!B3+C26)
A27: 26 | B27: =IF(A27<=Policy_Input!B5,(Policy_Input!B3/1000)*Policy_Input!B4,"") | C27: =IF(B27="","",C26+B27) | D27: =IF(B27="","",Policy_Input!B3+C27)
A28: 27 | B28: =IF(A28<=Policy_Input!B5,(Policy_Input!B3/1000)*Policy_Input!B4,"") | C28: =IF(B28="","",C27+B28) | D28: =IF(B28="","",Policy_Input!B3+C28)
A29: 28 | B29: =IF(A29<=Policy_Input!B5,(Policy_Input!B3/1000)*Policy_Input!B4,"") | C29: =IF(B29="","",C28+B29) | D29: =IF(B29="","",Policy_Input!B3+C29)
A30: 29 | B30: =IF(A30<=Policy_Input!B5,(Policy_Input!B3/1000)*Policy_Input!B4,"") | C30: =IF(B30="","",C29+B30) | D30: =IF(B30="","",Policy_Input!B3+C30)
A31: 30 | B31: =IF(A31<=Policy_Input!B5,(Policy_Input!B3/1000)*Policy_Input!B4,"") | C31: =IF(B31="","",C30+B31) | D31: =IF(B31="","",Policy_Input!B3+C31)
A32: 31 | B32: =IF(A32<=Policy_Input!B5,(Policy_Input!B3/1000)*Policy_Input!B4,"") | C32: =IF(B32="","",C31+B32) | D32: =IF(B32="","",Policy_Input!B3+C32)
A33: 32 | B33: =IF(A33<=Policy_Input!B5,(Policy_Input!B3/1000)*Policy_Input!B4,"") | C33: =IF(B33="","",C32+B33) | D33: =IF(B33="","",Policy_Input!B3+C33)
A34: 33 | B34: =IF(A34<=Policy_Input!B5,(Policy_Input!B3/1000)*Policy_Input!B4,"") | C34: =IF(B34="","",C33+B34) | D34: =IF(B34="","",Policy_Input!B3+C34)
A35: 34 | B35: =IF(A35<=Policy_Input!B5,(Policy_Input!B3/1000)*Policy_Input!B4,"") | C35: =IF(B35="","",C34+B35) | D35: =IF(B35="","",Policy_Input!B3+C35)
A36: 35 | B36: =IF(A36<=Policy_Input!B5,(Policy_Input!B3/1000)*Policy_Input!B4,"") | C36: =IF(B36="","",C35+B36) | D36: =IF(B36="","",Policy_Input!B3+C36)
A37: 36 | B37: =IF(A37<=Policy_Input!B5,(Policy_Input!B3/1000)*Policy_Input!B4,"") | C37: =IF(B37="","",C36+B37) | D37: =IF(B37="","",Policy_Input!B3+C37)
A38: 37 | B38: =IF(A38<=Policy_Input!B5,(Policy_Input!B3/1000)*Policy_Input!B4,"") | C38: =IF(B38="","",C37+B38) | D38: =IF(B38="","",Policy_Input!B3+C38)
A39: 38 | B39: =IF(A39<=Policy_Input!B5,(Policy_Input!B3/1000)*Policy_Input!B4,"") | C39: =IF(B39="","",C38+B39) | D39: =IF(B39="","",Policy_Input!B3+C39)
A40: 39 | B40: =IF(A40<=Policy_Input!B5,(Policy_Input!B3/1000)*Policy_Input!B4,"") | C40: =IF(B40="","",C39+B40) | D40: =IF(B40="","",Policy_Input!B3+C40)
...

Sheet Dashboard
A1: PLI Maturity Dashboard
A2: Brand: myswpcalculator
A4: Sum Assured | B4: =Policy_Input!B3
A5: Bonus Rate | B5: =Policy_Input!B4
A6: Policy Term | B6: =Policy_Input!B5
A7: Final Maturity Amount | B7: =Calculation!D41

Sheet How_To_Use
A1: PLI Maturity Calculator - myswpcalculator
A3: Steps to Use:
A4: 1. Open Policy_Input sheet.
A5: 2. Enter your Sum Assured.
A6: 3. Enter the Bonus Rate declared by Postal Life Insurance.
A7: 4. Enter the Policy Term in years.
A8: 5. Enter your Annual Premium if needed for tracking.
A9: 6. Go to Calculation sheet to view year-wise bonus calculation.
A10: 7. Open Dashboard sheet to see maturity growth chart.
A12: This sheet automatically calculates bonus and maturity value.
