Workbook

Sheet Calculator
A1: Home Loan Prepayment Calculator
A3: Brand | B3: myswpcalculator
A5: Loan Amount
A6: Annual Interest Rate (%)
A7: Loan Tenure (Years)
A8: Monthly EMI | B8: =B5*(B6/1200)*(1+B6/1200)^(B7*12)/((1+B6/1200)^(B7*12)-1)
A10: Extra EMI per Year
A11: Lump Sum Prepayment (Year 1)

Sheet Amortization
A1: Month | B1: Opening Balance | C1: Interest | D1: Principal | E1: EMI | F1: Extra EMI | G1: Closing Balance
A2: 1 | B2: =Calculator!B5 | C2: =B2*(Calculator!B6/1200) | D2: =E2-C2 | E2: =Calculator!B8 | F2: =IF(MOD(A2,12)=0,Calculator!B10,0) | G2: =B2-D2-F2
A3: 2 | B3: =G2 | C3: =B3*(Calculator!B6/1200) | D3: =E3-C3 | E3: =Calculator!B8 | F3: =IF(MOD(A3,12)=0,Calculator!B10,0) | G3: =B3-D3-F3
A4: 3 | B4: =G3 | C4: =B4*(Calculator!B6/1200) | D4: =E4-C4 | E4: =Calculator!B8 | F4: =IF(MOD(A4,12)=0,Calculator!B10,0) | G4: =B4-D4-F4
A5: 4 | B5: =G4 | C5: =B5*(Calculator!B6/1200) | D5: =E5-C5 | E5: =Calculator!B8 | F5: =IF(MOD(A5,12)=0,Calculator!B10,0) | G5: =B5-D5-F5
A6: 5 | B6: =G5 | C6: =B6*(Calculator!B6/1200) | D6: =E6-C6 | E6: =Calculator!B8 | F6: =IF(MOD(A6,12)=0,Calculator!B10,0) | G6: =B6-D6-F6
A7: 6 | B7: =G6 | C7: =B7*(Calculator!B6/1200) | D7: =E7-C7 | E7: =Calculator!B8 | F7: =IF(MOD(A7,12)=0,Calculator!B10,0) | G7: =B7-D7-F7
A8: 7 | B8: =G7 | C8: =B8*(Calculator!B6/1200) | D8: =E8-C8 | E8: =Calculator!B8 | F8: =IF(MOD(A8,12)=0,Calculator!B10,0) | G8: =B8-D8-F8
A9: 8 | B9: =G8 | C9: =B9*(Calculator!B6/1200) | D9: =E9-C9 | E9: =Calculator!B8 | F9: =IF(MOD(A9,12)=0,Calculator!B10,0) | G9: =B9-D9-F9
A10: 9 | B10: =G9 | C10: =B10*(Calculator!B6/1200) | D10: =E10-C10 | E10: =Calculator!B8 | F10: =IF(MOD(A10,12)=0,Calculator!B10,0) | G10: =B10-D10-F10
A11: 10 | B11: =G10 | C11: =B11*(Calculator!B6/1200) | D11: =E11-C11 | E11: =Calculator!B8 | F11: =IF(MOD(A11,12)=0,Calculator!B10,0) | G11: =B11-D11-F11
A12: 11 | B12: =G11 | C12: =B12*(Calculator!B6/1200) | D12: =E12-C12 | E12: =Calculator!B8 | F12: =IF(MOD(A12,12)=0,Calculator!B10,0) | G12: =B12-D12-F12
A13: 12 | B13: =G12 | C13: =B13*(Calculator!B6/1200) | D13: =E13-C13 | E13: =Calculator!B8 | F13: =IF(MOD(A13,12)=0,Calculator!B10,0) | G13: =B13-D13-F13
A14: 13 | B14: =G13 | C14: =B14*(Calculator!B6/1200) | D14: =E14-C14 | E14: =Calculator!B8 | F14: =IF(MOD(A14,12)=0,Calculator!B10,0) | G14: =B14-D14-F14
A15: 14 | B15: =G14 | C15: =B15*(Calculator!B6/1200) | D15: =E15-C15 | E15: =Calculator!B8 | F15: =IF(MOD(A15,12)=0,Calculator!B10,0) | G15: =B15-D15-F15
A16: 15 | B16: =G15 | C16: =B16*(Calculator!B6/1200) | D16: =E16-C16 | E16: =Calculator!B8 | F16: =IF(MOD(A16,12)=0,Calculator!B10,0) | G16: =B16-D16-F16
A17: 16 | B17: =G16 | C17: =B17*(Calculator!B6/1200) | D17: =E17-C17 | E17: =Calculator!B8 | F17: =IF(MOD(A17,12)=0,Calculator!B10,0) | G17: =B17-D17-F17
A18: 17 | B18: =G17 | C18: =B18*(Calculator!B6/1200) | D18: =E18-C18 | E18: =Calculator!B8 | F18: =IF(MOD(A18,12)=0,Calculator!B10,0) | G18: =B18-D18-F18
A19: 18 | B19: =G18 | C19: =B19*(Calculator!B6/1200) | D19: =E19-C19 | E19: =Calculator!B8 | F19: =IF(MOD(A19,12)=0,Calculator!B10,0) | G19: =B19-D19-F19
A20: 19 | B20: =G19 | C20: =B20*(Calculator!B6/1200) | D20: =E20-C20 | E20: =Calculator!B8 | F20: =IF(MOD(A20,12)=0,Calculator!B10,0) | G20: =B20-D20-F20
A21: 20 | B21: =G20 | C21: =B21*(Calculator!B6/1200) | D21: =E21-C21 | E21: =Calculator!B8 | F21: =IF(MOD(A21,12)=0,Calculator!B10,0) | G21: =B21-D21-F21
A22: 21 | B22: =G21 | C22: =B22*(Calculator!B6/1200) | D22: =E22-C22 | E22: =Calculator!B8 | F22: =IF(MOD(A22,12)=0,Calculator!B10,0) | G22: =B22-D22-F22
A23: 22 | B23: =G22 | C23: =B23*(Calculator!B6/1200) | D23: =E23-C23 | E23: =Calculator!B8 | F23: =IF(MOD(A23,12)=0,Calculator!B10,0) | G23: =B23-D23-F23
A24: 23 | B24: =G23 | C24: =B24*(Calculator!B6/1200) | D24: =E24-C24 | E24: =Calculator!B8 | F24: =IF(MOD(A24,12)=0,Calculator!B10,0) | G24: =B24-D24-F24
A25: 24 | B25: =G24 | C25: =B25*(Calculator!B6/1200) | D25: =E25-C25 | E25: =Calculator!B8 | F25: =IF(MOD(A25,12)=0,Calculator!B10,0) | G25: =B25-D25-F25
A26: 25 | B26: =G25 | C26: =B26*(Calculator!B6/1200) | D26: =E26-C26 | E26: =Calculator!B8 | F26: =IF(MOD(A26,12)=0,Calculator!B10,0) | G26: =B26-D26-F26
A27: 26 | B27: =G26 | C27: =B27*(Calculator!B6/1200) | D27: =E27-C27 | E27: =Calculator!B8 | F27: =IF(MOD(A27,12)=0,Calculator!B10,0) | G27: =B27-D27-F27
A28: 27 | B28: =G27 | C28: =B28*(Calculator!B6/1200) | D28: =E28-C28 | E28: =Calculator!B8 | F28: =IF(MOD(A28,12)=0,Calculator!B10,0) | G28: =B28-D28-F28
A29: 28 | B29: =G28 | C29: =B29*(Calculator!B6/1200) | D29: =E29-C29 | E29: =Calculator!B8 | F29: =IF(MOD(A29,12)=0,Calculator!B10,0) | G29: =B29-D29-F29
A30: 29 | B30: =G29 | C30: =B30*(Calculator!B6/1200) | D30: =E30-C30 | E30: =Calculator!B8 | F30: =IF(MOD(A30,12)=0,Calculator!B10,0) | G30: =B30-D30-F30
A31: 30 | B31: =G30 | C31: =B31*(Calculator!B6/1200) | D31: =E31-C31 | E31: =Calculator!B8 | F31: =IF(MOD(A31,12)=0,Calculator!B10,0) | G31: =B31-D31-F31
A32: 31 | B32: =G31 | C32: =B32*(Calculator!B6/1200) | D32: =E32-C32 | E32: =Calculator!B8 | F32: =IF(MOD(A32,12)=0,Calculator!B10,0) | G32: =B32-D32-F32
A33: 32 | B33: =G32 | C33: =B33*(Calculator!B6/1200) | D33: =E33-C33 | E33: =Calculator!B8 | F33: =IF(MOD(A33,12)=0,Calculator!B10,0) | G33: =B33-D33-F33
A34: 33 | B34: =G33 | C34: =B34*(Calculator!B6/1200) | D34: =E34-C34 | E34: =Calculator!B8 | F34: =IF(MOD(A34,12)=0,Calculator!B10,0) | G34: =B34-D34-F34
A35: 34 | B35: =G34 | C35: =B35*(Calculator!B6/1200) | D35: =E35-C35 | E35: =Calculator!B8 | F35: =IF(MOD(A35,12)=0,Calculator!B10,0) | G35: =B35-D35-F35
A36: 35 | B36: =G35 | C36: =B36*(Calculator!B6/1200) | D36: =E36-C36 | E36: =Calculator!B8 | F36: =IF(MOD(A36,12)=0,Calculator!B10,0) | G36: =B36-D36-F36
A37: 36 | B37: =G36 | C37: =B37*(Calculator!B6/1200) | D37: =E37-C37 | E37: =Calculator!B8 | F37: =IF(MOD(A37,12)=0,Calculator!B10,0) | G37: =B37-D37-F37
A38: 37 | B38: =G37 | C38: =B38*(Calculator!B6/1200) | D38: =E38-C38 | E38: =Calculator!B8 | F38: =IF(MOD(A38,12)=0,Calculator!B10,0) | G38: =B38-D38-F38
A39: 38 | B39: =G38 | C39: =B39*(Calculator!B6/1200) | D39: =E39-C39 | E39: =Calculator!B8 | F39: =IF(MOD(A39,12)=0,Calculator!B10,0) | G39: =B39-D39-F39
A40: 39 | B40: =G39 | C40: =B40*(Calculator!B6/1200) | D40: =E40-C40 | E40: =Calculator!B8 | F40: =IF(MOD(A40,12)=0,Calculator!B10,0) | G40: =B40-D40-F40
...

Sheet Dashboard
A1: Loan Balance Dashboard
