Workbook

Sheet Attendance Sheet
A1: Monthly Attendance Sheet - myswpcalculator
A3: Student/Employee Name | B3: 1 | C3: 2 | D3: 3 | E3: 4 | F3: 5 | G3: 6 | H3: 7 | I3: 8 | J3: 9 | K3: 10 | L3: 11 | M3: 12 | N3: 13 | O3: 14 | P3: 15 | Q3: 16 | R3: 17 | S3: 18 | T3: 19 | U3: 20 | V3: 21 | W3: 22 | X3: 23 | Y3: 24 | Z3: 25 | AA3: 26 | AB3: 27 | AC3: 28 | AD3: 29 | AE3: 30 | AF3: 31 | AG3: Present | AH3: Absent | AI3: Leave | AJ3: Attendance %
A4: Rahul | B4: P | C4: P | D4: P | E4: A | F4: P | G4: L | H4: P | I4: P | J4: P | K4: P | L4: P | M4: P | N4: P | O4: P | P4: P | Q4: L | R4: P | S4: P | T4: P | U4: P | V4: P | W4: A | X4: P | Y4: P | Z4: P | AA4: P | AB4: P | AC4: P | AD4: P | AE4: P | AF4: P | AG4: =COUNTIF(B4:AF4,"P") -> 27 | AH4: =COUNTIF(B4:AF4,"A") -> 2 | AI4: =COUNTIF(B4:AF4,"L") -> 2 | AJ4: =IF(COUNTA(B4:AF4)=0,"",(AG4/COUNTA(B4:AF4))*100) -> 87.096774
A5: Priya | B5: P | C5: A | D5: P | E5: P | F5: P | G5: P | H5: P | I5: P | J5: P | K5: P | L5: P | M5: A | N5: P | O5: P | P5: P | Q5: P | R5: P | S5: L | T5: P | U5: P | V5: P | W5: P | X5: P | Y5: P | Z5: P | AA5: P | AB5: A | AC5: P | AD5: P | AE5: L | AF5: P | AG5: =COUNTIF(B5:AF5,"P") -> 26 | AH5: =COUNTIF(B5:AF5,"A") -> 3 | AI5: =COUNTIF(B5:AF5,"L") -> 2 | AJ5: =IF(COUNTA(B5:AF5)=0,"",(AG5/COUNTA(B5:AF5))*100) -> 83.870968
A6: Arjun | B6: P | C6: P | D6: P | E6: P | F6: P | G6: P | H6: P | I6: A | J6: L | K6: A | L6: P | M6: P | N6: P | O6: P | P6: P | Q6: P | R6: A | S6: P | T6: P | U6: L | V6: A | W6: P | X6: P | Y6: P | Z6: P | AA6: P | AB6: P | AC6: P | AD6: P | AE6: P | AF6: A | AG6: =COUNTIF(B6:AF6,"P") -> 24 | AH6: =COUNTIF(B6:AF6,"A") -> 5 | AI6: =COUNTIF(B6:AF6,"L") -> 2 | AJ6: =IF(COUNTA(B6:AF6)=0,"",(AG6/COUNTA(B6:AF6))*100) -> 77.419355
AG7: =COUNTIF(B7:AF7,"P") -> 0 | AH7: =COUNTIF(B7:AF7,"A") -> 0 | AI7: =COUNTIF(B7:AF7,"L") -> 0 | AJ7: =IF(COUNTA(B7:AF7)=0,"",(AG7/COUNTA(B7:AF7))*100)
AG8: =COUNTIF(B8:AF8,"P") -> 0 | AH8: =COUNTIF(B8:AF8,"A") -> 0 | AI8: =COUNTIF(B8:AF8,"L") -> 0 | AJ8: =IF(COUNTA(B8:AF8)=0,"",(AG8/COUNTA(B8:AF8))*100)
AG9: =COUNTIF(B9:AF9,"P") -> 0 | AH9: =COUNTIF(B9:AF9,"A") -> 0 | AI9: =COUNTIF(B9:AF9,"L") -> 0 | AJ9: =IF(COUNTA(B9:AF9)=0,"",(AG9/COUNTA(B9:AF9))*100)
AG10: =COUNTIF(B10:AF10,"P") -> 0 | AH10: =COUNTIF(B10:AF10,"A") -> 0 | AI10: =COUNTIF(B10:AF10,"L") -> 0 | AJ10: =IF(COUNTA(B10:AF10)=0,"",(AG10/COUNTA(B10:AF10))*100)
AG11: =COUNTIF(B11:AF11,"P") -> 0 | AH11: =COUNTIF(B11:AF11,"A") -> 0 | AI11: =COUNTIF(B11:AF11,"L") -> 0 | AJ11: =IF(COUNTA(B11:AF11)=0,"",(AG11/COUNTA(B11:AF11))*100)
AG12: =COUNTIF(B12:AF12,"P") -> 0 | AH12: =COUNTIF(B12:AF12,"A") -> 0 | AI12: =COUNTIF(B12:AF12,"L") -> 0 | AJ12: =IF(COUNTA(B12:AF12)=0,"",(AG12/COUNTA(B12:AF12))*100)
AG13: =COUNTIF(B13:AF13,"P") -> 0 | AH13: =COUNTIF(B13:AF13,"A") -> 0 | AI13: =COUNTIF(B13:AF13,"L") -> 0 | AJ13: =IF(COUNTA(B13:AF13)=0,"",(AG13/COUNTA(B13:AF13))*100)
AG14: =COUNTIF(B14:AF14,"P") -> 0 | AH14: =COUNTIF(B14:AF14,"A") -> 0 | AI14: =COUNTIF(B14:AF14,"L") -> 0 | AJ14: =IF(COUNTA(B14:AF14)=0,"",(AG14/COUNTA(B14:AF14))*100)
AG15: =COUNTIF(B15:AF15,"P") -> 0 | AH15: =COUNTIF(B15:AF15,"A") -> 0 | AI15: =COUNTIF(B15:AF15,"L") -> 0 | AJ15: =IF(COUNTA(B15:AF15)=0,"",(AG15/COUNTA(B15:AF15))*100)
AG16: =COUNTIF(B16:AF16,"P") -> 0 | AH16: =COUNTIF(B16:AF16,"A") -> 0 | AI16: =COUNTIF(B16:AF16,"L") -> 0 | AJ16: =IF(COUNTA(B16:AF16)=0,"",(AG16/COUNTA(B16:AF16))*100)
AG17: =COUNTIF(B17:AF17,"P") -> 0 | AH17: =COUNTIF(B17:AF17,"A") -> 0 | AI17: =COUNTIF(B17:AF17,"L") -> 0 | AJ17: =IF(COUNTA(B17:AF17)=0,"",(AG17/COUNTA(B17:AF17))*100)
AG18: =COUNTIF(B18:AF18,"P") -> 0 | AH18: =COUNTIF(B18:AF18,"A") -> 0 | AI18: =COUNTIF(B18:AF18,"L") -> 0 | AJ18: =IF(COUNTA(B18:AF18)=0,"",(AG18/COUNTA(B18:AF18))*100)
... AG100: =COUNTIF(B100:AF100,"P") -> 0 | AH100: =COUNTIF(B100:AF100,"A") -> 0 | AI100: =COUNTIF(B100:AF100,"L") -> 0 | AJ100: =IF(COUNTA(B100:AF100)=0,"",(AG100/COUNTA(B100:AF100))*100)

Sheet Dashboard
A1: Attendance Dashboard - myswpcalculator
A3: Name | B3: Present | C3: Absent
A4: Rahul | B4: ='Attendance Sheet'!AG4 -> 27 | C4: ='Attendance Sheet'!AH4 -> 2
A5: Priya | B5: ='Attendance Sheet'!AG5 -> 26 | C5: ='Attendance Sheet'!AH5 -> 3
A6: Arjun | B6: ='Attendance Sheet'!AG6 -> 24 | C6: ='Attendance Sheet'!AH6 -> 5
