Workbook

Sheet GST Invoice
A1: TAX INVOICE
A3: Address:
A4: Company Name: | H4: Invoice No: | I4: =CONCAT("INV-",TEXT(ROW(A1),"0001")) -> #NAME?
A5: Address: | H5: Invoice Date: | I5: =TODAY() -> 46079
A6: Email ID:
A7: GSTIN:
A8: PAN No:
A9: Seller State:
A11: Billing To
A12: Customer Name:
A13: Customer GSTIN:
A14: Place of Supply:
A15: Phone:
A16: Email:
A18: SR | B18: Description | C18: HSN/SAC | D18: Qty | E18: Rate | F18: GST % | G18: Taxable | H18: CGST | I18: SGST | J18: IGST | K18: Total
A19: 1 | G19: =D19*E19 -> 0 | H19: =G19*F19/2 -> 0 | I19: =G19*F19/2 -> 0 | J19: =G19*F19 -> 0 | K19: =G19+H19+I19 -> 0
A20: 2 | G20: =D20*E20 -> 0 | H20: =G20*F20/2 -> 0 | I20: =G20*F20/2 -> 0 | J20: =G20*F20 -> 0 | K20: =G20+H20+I20 -> 0
A21: 3 | G21: =D21*E21 -> 0 | H21: =G21*F21/2 -> 0 | I21: =G21*F21/2 -> 0 | J21: =G21*F21 -> 0 | K21: =G21+H21+I21 -> 0
A22: 4 | G22: =D22*E22 -> 0 | H22: =G22*F22/2 -> 0 | I22: =G22*F22/2 -> 0 | J22: =G22*F22 -> 0 | K22: =G22+H22+I22 -> 0
A23: 5 | G23: =D23*E23 -> 0 | H23: =G23*F23/2 -> 0 | I23: =G23*F23/2 -> 0 | J23: =G23*F23 -> 0 | K23: =G23+H23+I23 -> 0
A24: 6 | G24: =D24*E24 -> 0 | H24: =G24*F24/2 -> 0 | I24: =G24*F24/2 -> 0 | J24: =G24*F24 -> 0 | K24: =G24+H24+I24 -> 0
A25: 7 | G25: =D25*E25 -> 0 | H25: =G25*F25/2 -> 0 | I25: =G25*F25/2 -> 0 | J25: =G25*F25 -> 0 | K25: =G25+H25+I25 -> 0
A26: 8 | G26: =D26*E26 -> 0 | H26: =G26*F26/2 -> 0 | I26: =G26*F26/2 -> 0 | J26: =G26*F26 -> 0 | K26: =G26+H26+I26 -> 0
A27: 9 | G27: =D27*E27 -> 0 | H27: =G27*F27/2 -> 0 | I27: =G27*F27/2 -> 0 | J27: =G27*F27 -> 0 | K27: =G27+H27+I27 -> 0
A28: 10 | G28: =D28*E28 -> 0 | H28: =G28*F28/2 -> 0 | I28: =G28*F28/2 -> 0 | J28: =G28*F28 -> 0 | K28: =G28+H28+I28 -> 0
A29: 11 | G29: =D29*E29 -> 0 | H29: =G29*F29/2 -> 0 | I29: =G29*F29/2 -> 0 | J29: =G29*F29 -> 0 | K29: =G29+H29+I29 -> 0
A30: 12 | G30: =D30*E30 -> 0 | H30: =G30*F30/2 -> 0 | I30: =G30*F30/2 -> 0 | J30: =G30*F30 -> 0 | K30: =G30+H30+I30 -> 0
... A33: 15 | G33: =D33*E33 -> 0 | H33: =G33*F33/2 -> 0 | I33: =G33*F33/2 -> 0 | J33: =G33*F33 -> 0 | K33: =G33+H33+I33 -> 0
H35: Taxable Total | I35: =SUM(G19:G33) -> 0
H36: CGST Total | I36: =SUM(H19:H33) -> 0
H37: SGST Total | I37: =SUM(I19:I33) -> 0
H38: IGST Total | I38: =SUM(J19:J33) -> 0
H39: Grand Total | I39: =SUM(K19:K33) -> 0
A41: =IF(I39=0,"Zero Rupees Only",TEXT(I39,"#,##0")&" Rupees Only") -> Zero Rupees Only

Sheet Monthly GST Summary
A1: MYSWPCALCULATOR.IN - MONTHLY GST SUMMARY
A3: Total Taxable Value | B3: ='GST Invoice'!I35 -> 0
A4: Total CGST | B4: ='GST Invoice'!I36 -> 0
A5: Total SGST | B5: ='GST Invoice'!I37 -> 0
A6: Total IGST | B6: ='GST Invoice'!I38 -> 0
A7: Grand Total | B7: ='GST Invoice'!I39 -> 0
